BEGIN:VCALENDAR
VERSION:2.0
PRODID:-//Tria Restaurant &amp; Bar - ECPv6.15.18//NONSGML v1.0//EN
CALSCALE:GREGORIAN
METHOD:PUBLISH
X-WR-CALNAME:Tria Restaurant &amp; Bar
X-ORIGINAL-URL:https://www.triarestaurant.com
X-WR-CALDESC:Events for Tria Restaurant &amp; Bar
REFRESH-INTERVAL;VALUE=DURATION:PT1H
X-Robots-Tag:noindex
X-PUBLISHED-TTL:PT1H
BEGIN:VTIMEZONE
TZID:America/Chicago
BEGIN:DAYLIGHT
TZOFFSETFROM:-0600
TZOFFSETTO:-0500
TZNAME:CDT
DTSTART:20240310T080000
END:DAYLIGHT
BEGIN:STANDARD
TZOFFSETFROM:-0500
TZOFFSETTO:-0600
TZNAME:CST
DTSTART:20241103T070000
END:STANDARD
BEGIN:DAYLIGHT
TZOFFSETFROM:-0600
TZOFFSETTO:-0500
TZNAME:CDT
DTSTART:20250309T080000
END:DAYLIGHT
BEGIN:STANDARD
TZOFFSETFROM:-0500
TZOFFSETTO:-0600
TZNAME:CST
DTSTART:20251102T070000
END:STANDARD
BEGIN:DAYLIGHT
TZOFFSETFROM:-0600
TZOFFSETTO:-0500
TZNAME:CDT
DTSTART:20260308T080000
END:DAYLIGHT
BEGIN:STANDARD
TZOFFSETFROM:-0500
TZOFFSETTO:-0600
TZNAME:CST
DTSTART:20261101T070000
END:STANDARD
END:VTIMEZONE
BEGIN:VEVENT
DTSTART;TZID=America/Chicago:20250411T160000
DTEND;TZID=America/Chicago:20250411T220000
DTSTAMP:20260421T082913
CREATED:20250224T162846Z
LAST-MODIFIED:20250310T213527Z
UID:10001252-1744387200-1744408800@www.triarestaurant.com
SUMMARY:Lent Features
DESCRIPTION:Lent Features available every Friday\, March 7 – April 18.  \n\n\n\n\nFeatures
URL:https://www.triarestaurant.com/event-calendar/lent-features/2025-04-11/
ATTACH;FMTTYPE=image/jpeg:https://www.triarestaurant.com/wp-content/uploads/sites/10/2025/02/Tria_Nov2024-76-scaled.jpg
END:VEVENT
BEGIN:VEVENT
DTSTART;TZID=America/Chicago:20250404T160000
DTEND;TZID=America/Chicago:20250404T220000
DTSTAMP:20260421T082913
CREATED:20250224T162846Z
LAST-MODIFIED:20250310T213527Z
UID:10001251-1743782400-1743804000@www.triarestaurant.com
SUMMARY:Lent Features
DESCRIPTION:Lent Features available every Friday\, March 7 – April 18.  \n\n\n\n\nFeatures
URL:https://www.triarestaurant.com/event-calendar/lent-features/2025-04-04/
ATTACH;FMTTYPE=image/jpeg:https://www.triarestaurant.com/wp-content/uploads/sites/10/2025/02/Tria_Nov2024-76-scaled.jpg
END:VEVENT
BEGIN:VEVENT
DTSTART;TZID=America/Chicago:20250328T160000
DTEND;TZID=America/Chicago:20250328T220000
DTSTAMP:20260421T082913
CREATED:20250224T162846Z
LAST-MODIFIED:20250310T213527Z
UID:10001250-1743177600-1743199200@www.triarestaurant.com
SUMMARY:Lent Features
DESCRIPTION:Lent Features available every Friday\, March 7 – April 18.  \n\n\n\n\nFeatures
URL:https://www.triarestaurant.com/event-calendar/lent-features/2025-03-28/
ATTACH;FMTTYPE=image/jpeg:https://www.triarestaurant.com/wp-content/uploads/sites/10/2025/02/Tria_Nov2024-76-scaled.jpg
END:VEVENT
BEGIN:VEVENT
DTSTART;TZID=America/Chicago:20250321T160000
DTEND;TZID=America/Chicago:20250321T220000
DTSTAMP:20260421T082913
CREATED:20250224T162846Z
LAST-MODIFIED:20250310T213527Z
UID:10001249-1742572800-1742594400@www.triarestaurant.com
SUMMARY:Lent Features
DESCRIPTION:Lent Features available every Friday\, March 7 – April 18.  \n\n\n\n\nFeatures
URL:https://www.triarestaurant.com/event-calendar/lent-features/2025-03-21/
ATTACH;FMTTYPE=image/jpeg:https://www.triarestaurant.com/wp-content/uploads/sites/10/2025/02/Tria_Nov2024-76-scaled.jpg
END:VEVENT
BEGIN:VEVENT
DTSTART;TZID=America/Chicago:20250314T160000
DTEND;TZID=America/Chicago:20250314T220000
DTSTAMP:20260421T082913
CREATED:20250224T162846Z
LAST-MODIFIED:20250310T213527Z
UID:10001248-1741968000-1741989600@www.triarestaurant.com
SUMMARY:Lent Features
DESCRIPTION:Lent Features available every Friday\, March 7 – April 18.  \n\n\n\n\nFeatures
URL:https://www.triarestaurant.com/event-calendar/lent-features/2025-03-14/
ATTACH;FMTTYPE=image/jpeg:https://www.triarestaurant.com/wp-content/uploads/sites/10/2025/02/Tria_Nov2024-76-scaled.jpg
END:VEVENT
BEGIN:VEVENT
DTSTART;TZID=America/Chicago:20250307T160000
DTEND;TZID=America/Chicago:20250307T220000
DTSTAMP:20260421T082913
CREATED:20250224T162846Z
LAST-MODIFIED:20250310T213527Z
UID:10001247-1741363200-1741384800@www.triarestaurant.com
SUMMARY:Lent Features
DESCRIPTION:Lent Features available every Friday\, March 7 – April 18.  \n\n\n\n\nFeatures
URL:https://www.triarestaurant.com/event-calendar/lent-features/2025-03-07/
ATTACH;FMTTYPE=image/jpeg:https://www.triarestaurant.com/wp-content/uploads/sites/10/2025/02/Tria_Nov2024-76-scaled.jpg
END:VEVENT
BEGIN:VEVENT
DTSTART;TZID=America/Chicago:20250302T170000
DTEND;TZID=America/Chicago:20250302T210000
DTSTAMP:20260421T082913
CREATED:20250124T224809Z
LAST-MODIFIED:20250124T224824Z
UID:10001246-1740934800-1740949200@www.triarestaurant.com
SUMMARY:Winter Restaurant Week
DESCRIPTION:Join us for Winter Restaurant Week! Cozy flavors\, three-course prix-fixe menu\, and unforgettable dining. Don’t miss out! \n\n\n\n\nMenu\n\n\n\nReservations
URL:https://www.triarestaurant.com/event-calendar/winter-restaurant-week-2/2025-03-02/
ATTACH;FMTTYPE=image/jpeg:https://www.triarestaurant.com/wp-content/uploads/sites/10/2025/01/Tria_Nov2024-111-scaled-e1737758637136.jpg
END:VEVENT
BEGIN:VEVENT
DTSTART;TZID=America/Chicago:20250301T170000
DTEND;TZID=America/Chicago:20250301T210000
DTSTAMP:20260421T082913
CREATED:20250124T224809Z
LAST-MODIFIED:20250124T224824Z
UID:10001245-1740848400-1740862800@www.triarestaurant.com
SUMMARY:Winter Restaurant Week
DESCRIPTION:Join us for Winter Restaurant Week! Cozy flavors\, three-course prix-fixe menu\, and unforgettable dining. Don’t miss out! \n\n\n\n\nMenu\n\n\n\nReservations
URL:https://www.triarestaurant.com/event-calendar/winter-restaurant-week-2/2025-03-01/
ATTACH;FMTTYPE=image/jpeg:https://www.triarestaurant.com/wp-content/uploads/sites/10/2025/01/Tria_Nov2024-111-scaled-e1737758637136.jpg
END:VEVENT
BEGIN:VEVENT
DTSTART;TZID=America/Chicago:20250228T170000
DTEND;TZID=America/Chicago:20250228T210000
DTSTAMP:20260421T082913
CREATED:20250124T224809Z
LAST-MODIFIED:20250124T224824Z
UID:10001244-1740762000-1740776400@www.triarestaurant.com
SUMMARY:Winter Restaurant Week
DESCRIPTION:Join us for Winter Restaurant Week! Cozy flavors\, three-course prix-fixe menu\, and unforgettable dining. Don’t miss out! \n\n\n\n\nMenu\n\n\n\nReservations
URL:https://www.triarestaurant.com/event-calendar/winter-restaurant-week-2/2025-02-28/
ATTACH;FMTTYPE=image/jpeg:https://www.triarestaurant.com/wp-content/uploads/sites/10/2025/01/Tria_Nov2024-111-scaled-e1737758637136.jpg
END:VEVENT
BEGIN:VEVENT
DTSTART;TZID=America/Chicago:20250227T170000
DTEND;TZID=America/Chicago:20250227T210000
DTSTAMP:20260421T082913
CREATED:20250124T224809Z
LAST-MODIFIED:20250124T224824Z
UID:10001243-1740675600-1740690000@www.triarestaurant.com
SUMMARY:Winter Restaurant Week
DESCRIPTION:Join us for Winter Restaurant Week! Cozy flavors\, three-course prix-fixe menu\, and unforgettable dining. Don’t miss out! \n\n\n\n\nMenu\n\n\n\nReservations
URL:https://www.triarestaurant.com/event-calendar/winter-restaurant-week-2/2025-02-27/
ATTACH;FMTTYPE=image/jpeg:https://www.triarestaurant.com/wp-content/uploads/sites/10/2025/01/Tria_Nov2024-111-scaled-e1737758637136.jpg
END:VEVENT
BEGIN:VEVENT
DTSTART;TZID=America/Chicago:20250226T170000
DTEND;TZID=America/Chicago:20250226T210000
DTSTAMP:20260421T082913
CREATED:20250124T224809Z
LAST-MODIFIED:20250124T224824Z
UID:10001242-1740589200-1740603600@www.triarestaurant.com
SUMMARY:Winter Restaurant Week
DESCRIPTION:Join us for Winter Restaurant Week! Cozy flavors\, three-course prix-fixe menu\, and unforgettable dining. Don’t miss out! \n\n\n\n\nMenu\n\n\n\nReservations
URL:https://www.triarestaurant.com/event-calendar/winter-restaurant-week-2/2025-02-26/
ATTACH;FMTTYPE=image/jpeg:https://www.triarestaurant.com/wp-content/uploads/sites/10/2025/01/Tria_Nov2024-111-scaled-e1737758637136.jpg
END:VEVENT
BEGIN:VEVENT
DTSTART;TZID=America/Chicago:20250225T170000
DTEND;TZID=America/Chicago:20250225T210000
DTSTAMP:20260421T082913
CREATED:20250124T224809Z
LAST-MODIFIED:20250124T224824Z
UID:10001241-1740502800-1740517200@www.triarestaurant.com
SUMMARY:Winter Restaurant Week
DESCRIPTION:Join us for Winter Restaurant Week! Cozy flavors\, three-course prix-fixe menu\, and unforgettable dining. Don’t miss out! \n\n\n\n\nMenu\n\n\n\nReservations
URL:https://www.triarestaurant.com/event-calendar/winter-restaurant-week-2/2025-02-25/
ATTACH;FMTTYPE=image/jpeg:https://www.triarestaurant.com/wp-content/uploads/sites/10/2025/01/Tria_Nov2024-111-scaled-e1737758637136.jpg
END:VEVENT
BEGIN:VEVENT
DTSTART;TZID=America/Chicago:20250224T170000
DTEND;TZID=America/Chicago:20250224T210000
DTSTAMP:20260421T082913
CREATED:20250124T224809Z
LAST-MODIFIED:20250124T224824Z
UID:10001240-1740416400-1740430800@www.triarestaurant.com
SUMMARY:Winter Restaurant Week
DESCRIPTION:Join us for Winter Restaurant Week! Cozy flavors\, three-course prix-fixe menu\, and unforgettable dining. Don’t miss out! \n\n\n\n\nMenu\n\n\n\nReservations
URL:https://www.triarestaurant.com/event-calendar/winter-restaurant-week-2/2025-02-24/
ATTACH;FMTTYPE=image/jpeg:https://www.triarestaurant.com/wp-content/uploads/sites/10/2025/01/Tria_Nov2024-111-scaled-e1737758637136.jpg
END:VEVENT
BEGIN:VEVENT
DTSTART;TZID=America/Chicago:20250216T170000
DTEND;TZID=America/Chicago:20250216T210000
DTSTAMP:20260421T082913
CREATED:20250124T223814Z
LAST-MODIFIED:20250124T223820Z
UID:10001239-1739725200-1739739600@www.triarestaurant.com
SUMMARY:Sweetheart Menu
DESCRIPTION:At Tria\, we just love love. That’s why from February 1-16 we’re offering an exclusive Sweetheart Menu to celebrate Valentine’s Day!  \n\n\n\n\nMenu\n\n\n\nReservations
URL:https://www.triarestaurant.com/event-calendar/sweetheart-menu/2025-02-16/
ATTACH;FMTTYPE=image/jpeg:https://www.triarestaurant.com/wp-content/uploads/sites/10/2025/01/Tria_Nov2024-149-1-scaled-e1737758263923.jpg
END:VEVENT
BEGIN:VEVENT
DTSTART;TZID=America/Chicago:20250215T170000
DTEND;TZID=America/Chicago:20250215T210000
DTSTAMP:20260421T082913
CREATED:20250124T223814Z
LAST-MODIFIED:20250124T223820Z
UID:10001238-1739638800-1739653200@www.triarestaurant.com
SUMMARY:Sweetheart Menu
DESCRIPTION:At Tria\, we just love love. That’s why from February 1-16 we’re offering an exclusive Sweetheart Menu to celebrate Valentine’s Day!  \n\n\n\n\nMenu\n\n\n\nReservations
URL:https://www.triarestaurant.com/event-calendar/sweetheart-menu/2025-02-15/
ATTACH;FMTTYPE=image/jpeg:https://www.triarestaurant.com/wp-content/uploads/sites/10/2025/01/Tria_Nov2024-149-1-scaled-e1737758263923.jpg
END:VEVENT
BEGIN:VEVENT
DTSTART;TZID=America/Chicago:20250214T170000
DTEND;TZID=America/Chicago:20250214T210000
DTSTAMP:20260421T082913
CREATED:20250124T223814Z
LAST-MODIFIED:20250124T223820Z
UID:10001237-1739552400-1739566800@www.triarestaurant.com
SUMMARY:Sweetheart Menu
DESCRIPTION:At Tria\, we just love love. That’s why from February 1-16 we’re offering an exclusive Sweetheart Menu to celebrate Valentine’s Day!  \n\n\n\n\nMenu\n\n\n\nReservations
URL:https://www.triarestaurant.com/event-calendar/sweetheart-menu/2025-02-14/
ATTACH;FMTTYPE=image/jpeg:https://www.triarestaurant.com/wp-content/uploads/sites/10/2025/01/Tria_Nov2024-149-1-scaled-e1737758263923.jpg
END:VEVENT
BEGIN:VEVENT
DTSTART;TZID=America/Chicago:20250213T170000
DTEND;TZID=America/Chicago:20250213T210000
DTSTAMP:20260421T082913
CREATED:20250124T223814Z
LAST-MODIFIED:20250124T223820Z
UID:10001236-1739466000-1739480400@www.triarestaurant.com
SUMMARY:Sweetheart Menu
DESCRIPTION:At Tria\, we just love love. That’s why from February 1-16 we’re offering an exclusive Sweetheart Menu to celebrate Valentine’s Day!  \n\n\n\n\nMenu\n\n\n\nReservations
URL:https://www.triarestaurant.com/event-calendar/sweetheart-menu/2025-02-13/
ATTACH;FMTTYPE=image/jpeg:https://www.triarestaurant.com/wp-content/uploads/sites/10/2025/01/Tria_Nov2024-149-1-scaled-e1737758263923.jpg
END:VEVENT
BEGIN:VEVENT
DTSTART;TZID=America/Chicago:20250212T170000
DTEND;TZID=America/Chicago:20250212T210000
DTSTAMP:20260421T082913
CREATED:20250124T223814Z
LAST-MODIFIED:20250124T223820Z
UID:10001235-1739379600-1739394000@www.triarestaurant.com
SUMMARY:Sweetheart Menu
DESCRIPTION:At Tria\, we just love love. That’s why from February 1-16 we’re offering an exclusive Sweetheart Menu to celebrate Valentine’s Day!  \n\n\n\n\nMenu\n\n\n\nReservations
URL:https://www.triarestaurant.com/event-calendar/sweetheart-menu/2025-02-12/
ATTACH;FMTTYPE=image/jpeg:https://www.triarestaurant.com/wp-content/uploads/sites/10/2025/01/Tria_Nov2024-149-1-scaled-e1737758263923.jpg
END:VEVENT
BEGIN:VEVENT
DTSTART;TZID=America/Chicago:20250211T170000
DTEND;TZID=America/Chicago:20250211T210000
DTSTAMP:20260421T082913
CREATED:20250124T223814Z
LAST-MODIFIED:20250124T223820Z
UID:10001234-1739293200-1739307600@www.triarestaurant.com
SUMMARY:Sweetheart Menu
DESCRIPTION:At Tria\, we just love love. That’s why from February 1-16 we’re offering an exclusive Sweetheart Menu to celebrate Valentine’s Day!  \n\n\n\n\nMenu\n\n\n\nReservations
URL:https://www.triarestaurant.com/event-calendar/sweetheart-menu/2025-02-11/
ATTACH;FMTTYPE=image/jpeg:https://www.triarestaurant.com/wp-content/uploads/sites/10/2025/01/Tria_Nov2024-149-1-scaled-e1737758263923.jpg
END:VEVENT
BEGIN:VEVENT
DTSTART;TZID=America/Chicago:20250210T170000
DTEND;TZID=America/Chicago:20250210T210000
DTSTAMP:20260421T082913
CREATED:20250124T223814Z
LAST-MODIFIED:20250124T223820Z
UID:10001233-1739206800-1739221200@www.triarestaurant.com
SUMMARY:Sweetheart Menu
DESCRIPTION:At Tria\, we just love love. That’s why from February 1-16 we’re offering an exclusive Sweetheart Menu to celebrate Valentine’s Day!  \n\n\n\n\nMenu\n\n\n\nReservations
URL:https://www.triarestaurant.com/event-calendar/sweetheart-menu/2025-02-10/
ATTACH;FMTTYPE=image/jpeg:https://www.triarestaurant.com/wp-content/uploads/sites/10/2025/01/Tria_Nov2024-149-1-scaled-e1737758263923.jpg
END:VEVENT
BEGIN:VEVENT
DTSTART;TZID=America/Chicago:20250209T170000
DTEND;TZID=America/Chicago:20250209T210000
DTSTAMP:20260421T082913
CREATED:20250124T223814Z
LAST-MODIFIED:20250124T223820Z
UID:10001232-1739120400-1739134800@www.triarestaurant.com
SUMMARY:Sweetheart Menu
DESCRIPTION:At Tria\, we just love love. That’s why from February 1-16 we’re offering an exclusive Sweetheart Menu to celebrate Valentine’s Day!  \n\n\n\n\nMenu\n\n\n\nReservations
URL:https://www.triarestaurant.com/event-calendar/sweetheart-menu/2025-02-09/
ATTACH;FMTTYPE=image/jpeg:https://www.triarestaurant.com/wp-content/uploads/sites/10/2025/01/Tria_Nov2024-149-1-scaled-e1737758263923.jpg
END:VEVENT
BEGIN:VEVENT
DTSTART;TZID=America/Chicago:20250208T170000
DTEND;TZID=America/Chicago:20250208T210000
DTSTAMP:20260421T082913
CREATED:20250124T223814Z
LAST-MODIFIED:20250124T223820Z
UID:10001231-1739034000-1739048400@www.triarestaurant.com
SUMMARY:Sweetheart Menu
DESCRIPTION:At Tria\, we just love love. That’s why from February 1-16 we’re offering an exclusive Sweetheart Menu to celebrate Valentine’s Day!  \n\n\n\n\nMenu\n\n\n\nReservations
URL:https://www.triarestaurant.com/event-calendar/sweetheart-menu/2025-02-08/
ATTACH;FMTTYPE=image/jpeg:https://www.triarestaurant.com/wp-content/uploads/sites/10/2025/01/Tria_Nov2024-149-1-scaled-e1737758263923.jpg
END:VEVENT
BEGIN:VEVENT
DTSTART;TZID=America/Chicago:20250207T170000
DTEND;TZID=America/Chicago:20250207T210000
DTSTAMP:20260421T082913
CREATED:20250124T223814Z
LAST-MODIFIED:20250124T223820Z
UID:10001230-1738947600-1738962000@www.triarestaurant.com
SUMMARY:Sweetheart Menu
DESCRIPTION:At Tria\, we just love love. That’s why from February 1-16 we’re offering an exclusive Sweetheart Menu to celebrate Valentine’s Day!  \n\n\n\n\nMenu\n\n\n\nReservations
URL:https://www.triarestaurant.com/event-calendar/sweetheart-menu/2025-02-07/
ATTACH;FMTTYPE=image/jpeg:https://www.triarestaurant.com/wp-content/uploads/sites/10/2025/01/Tria_Nov2024-149-1-scaled-e1737758263923.jpg
END:VEVENT
BEGIN:VEVENT
DTSTART;TZID=America/Chicago:20250206T170000
DTEND;TZID=America/Chicago:20250206T210000
DTSTAMP:20260421T082913
CREATED:20250124T223814Z
LAST-MODIFIED:20250124T223820Z
UID:10001229-1738861200-1738875600@www.triarestaurant.com
SUMMARY:Sweetheart Menu
DESCRIPTION:At Tria\, we just love love. That’s why from February 1-16 we’re offering an exclusive Sweetheart Menu to celebrate Valentine’s Day!  \n\n\n\n\nMenu\n\n\n\nReservations
URL:https://www.triarestaurant.com/event-calendar/sweetheart-menu/2025-02-06/
ATTACH;FMTTYPE=image/jpeg:https://www.triarestaurant.com/wp-content/uploads/sites/10/2025/01/Tria_Nov2024-149-1-scaled-e1737758263923.jpg
END:VEVENT
BEGIN:VEVENT
DTSTART;TZID=America/Chicago:20250205T170000
DTEND;TZID=America/Chicago:20250205T210000
DTSTAMP:20260421T082913
CREATED:20250124T223814Z
LAST-MODIFIED:20250124T223820Z
UID:10001228-1738774800-1738789200@www.triarestaurant.com
SUMMARY:Sweetheart Menu
DESCRIPTION:At Tria\, we just love love. That’s why from February 1-16 we’re offering an exclusive Sweetheart Menu to celebrate Valentine’s Day!  \n\n\n\n\nMenu\n\n\n\nReservations
URL:https://www.triarestaurant.com/event-calendar/sweetheart-menu/2025-02-05/
ATTACH;FMTTYPE=image/jpeg:https://www.triarestaurant.com/wp-content/uploads/sites/10/2025/01/Tria_Nov2024-149-1-scaled-e1737758263923.jpg
END:VEVENT
BEGIN:VEVENT
DTSTART;TZID=America/Chicago:20250204T170000
DTEND;TZID=America/Chicago:20250204T210000
DTSTAMP:20260421T082913
CREATED:20250124T223814Z
LAST-MODIFIED:20250124T223820Z
UID:10001227-1738688400-1738702800@www.triarestaurant.com
SUMMARY:Sweetheart Menu
DESCRIPTION:At Tria\, we just love love. That’s why from February 1-16 we’re offering an exclusive Sweetheart Menu to celebrate Valentine’s Day!  \n\n\n\n\nMenu\n\n\n\nReservations
URL:https://www.triarestaurant.com/event-calendar/sweetheart-menu/2025-02-04/
ATTACH;FMTTYPE=image/jpeg:https://www.triarestaurant.com/wp-content/uploads/sites/10/2025/01/Tria_Nov2024-149-1-scaled-e1737758263923.jpg
END:VEVENT
BEGIN:VEVENT
DTSTART;TZID=America/Chicago:20250203T170000
DTEND;TZID=America/Chicago:20250203T210000
DTSTAMP:20260421T082913
CREATED:20250124T223814Z
LAST-MODIFIED:20250124T223820Z
UID:10001226-1738602000-1738616400@www.triarestaurant.com
SUMMARY:Sweetheart Menu
DESCRIPTION:At Tria\, we just love love. That’s why from February 1-16 we’re offering an exclusive Sweetheart Menu to celebrate Valentine’s Day!  \n\n\n\n\nMenu\n\n\n\nReservations
URL:https://www.triarestaurant.com/event-calendar/sweetheart-menu/2025-02-03/
ATTACH;FMTTYPE=image/jpeg:https://www.triarestaurant.com/wp-content/uploads/sites/10/2025/01/Tria_Nov2024-149-1-scaled-e1737758263923.jpg
END:VEVENT
BEGIN:VEVENT
DTSTART;TZID=America/Chicago:20250202T170000
DTEND;TZID=America/Chicago:20250202T210000
DTSTAMP:20260421T082913
CREATED:20250124T223814Z
LAST-MODIFIED:20250124T223820Z
UID:10001225-1738515600-1738530000@www.triarestaurant.com
SUMMARY:Sweetheart Menu
DESCRIPTION:At Tria\, we just love love. That’s why from February 1-16 we’re offering an exclusive Sweetheart Menu to celebrate Valentine’s Day!  \n\n\n\n\nMenu\n\n\n\nReservations
URL:https://www.triarestaurant.com/event-calendar/sweetheart-menu/2025-02-02/
ATTACH;FMTTYPE=image/jpeg:https://www.triarestaurant.com/wp-content/uploads/sites/10/2025/01/Tria_Nov2024-149-1-scaled-e1737758263923.jpg
END:VEVENT
BEGIN:VEVENT
DTSTART;TZID=America/Chicago:20250201T170000
DTEND;TZID=America/Chicago:20250201T210000
DTSTAMP:20260421T082913
CREATED:20250124T223814Z
LAST-MODIFIED:20250124T223820Z
UID:10001224-1738429200-1738443600@www.triarestaurant.com
SUMMARY:Sweetheart Menu
DESCRIPTION:At Tria\, we just love love. That’s why from February 1-16 we’re offering an exclusive Sweetheart Menu to celebrate Valentine’s Day!  \n\n\n\n\nMenu\n\n\n\nReservations
URL:https://www.triarestaurant.com/event-calendar/sweetheart-menu/2025-02-01/
ATTACH;FMTTYPE=image/jpeg:https://www.triarestaurant.com/wp-content/uploads/sites/10/2025/01/Tria_Nov2024-149-1-scaled-e1737758263923.jpg
END:VEVENT
BEGIN:VEVENT
DTSTART;TZID=America/Chicago:20250101T160000
DTEND;TZID=America/Chicago:20250101T200000
DTSTAMP:20260421T082913
CREATED:20241203T193838Z
LAST-MODIFIED:20241203T193907Z
UID:10001223-1735747200-1735761600@www.triarestaurant.com
SUMMARY:New Year's Day
DESCRIPTION:Reservations
URL:https://www.triarestaurant.com/event-calendar/new-years-day/
ATTACH;FMTTYPE=image/jpeg:https://www.triarestaurant.com/wp-content/uploads/sites/10/2024/12/Tria_June2024-35-scaled-e1733254705308.jpg
END:VEVENT
END:VCALENDAR