BEGIN:VCALENDAR
VERSION:2.0
PRODID:-//Tria Restaurant &amp; Bar - ECPv6.15.18//NONSGML v1.0//EN
CALSCALE:GREGORIAN
METHOD:PUBLISH
X-WR-CALNAME:Tria Restaurant &amp; Bar
X-ORIGINAL-URL:https://www.triarestaurant.com
X-WR-CALDESC:Events for Tria Restaurant &amp; Bar
REFRESH-INTERVAL;VALUE=DURATION:PT1H
X-Robots-Tag:noindex
X-PUBLISHED-TTL:PT1H
BEGIN:VTIMEZONE
TZID:America/Chicago
BEGIN:DAYLIGHT
TZOFFSETFROM:-0600
TZOFFSETTO:-0500
TZNAME:CDT
DTSTART:20240310T080000
END:DAYLIGHT
BEGIN:STANDARD
TZOFFSETFROM:-0500
TZOFFSETTO:-0600
TZNAME:CST
DTSTART:20241103T070000
END:STANDARD
BEGIN:DAYLIGHT
TZOFFSETFROM:-0600
TZOFFSETTO:-0500
TZNAME:CDT
DTSTART:20250309T080000
END:DAYLIGHT
BEGIN:STANDARD
TZOFFSETFROM:-0500
TZOFFSETTO:-0600
TZNAME:CST
DTSTART:20251102T070000
END:STANDARD
BEGIN:DAYLIGHT
TZOFFSETFROM:-0600
TZOFFSETTO:-0500
TZNAME:CDT
DTSTART:20260308T080000
END:DAYLIGHT
BEGIN:STANDARD
TZOFFSETFROM:-0500
TZOFFSETTO:-0600
TZNAME:CST
DTSTART:20261101T070000
END:STANDARD
END:VTIMEZONE
BEGIN:VEVENT
DTSTART;TZID=America/Chicago:20251027T160000
DTEND;TZID=America/Chicago:20251102T210000
DTSTAMP:20260419T151944
CREATED:20251023T143412Z
LAST-MODIFIED:20251023T144554Z
UID:10001586-1761580800-1762117200@www.triarestaurant.com
SUMMARY:Customer Appreciation Week
DESCRIPTION:Celebrate Customer Appreciation Week at Tria! Enjoy a three-course prix fixe menu for $40 — our way of saying thank you. \n\n\n\n\nMenu\n\n\n\nReservations
URL:https://www.triarestaurant.com/event-calendar/customer-appreciation-week-fall-2025/
END:VEVENT
BEGIN:VEVENT
DTSTART;TZID=America/Chicago:20251026T100000
DTEND;TZID=America/Chicago:20251026T130000
DTSTAMP:20260419T151944
CREATED:20251020T234914Z
LAST-MODIFIED:20251021T175049Z
UID:10001575-1761472800-1761483600@www.triarestaurant.com
SUMMARY:Sunday Brunch Buffet
DESCRIPTION:Join us every Sunday for a gourmet brunch buffet\, bottomless mimosas\, fresh coffee\, and so much more. Don’t wait – reserve your table today!  \n\n\n\n\nSee Menu\n\n\n\nReservations
URL:https://www.triarestaurant.com/event-calendar/sunday-brunch-buffet/2025-10-26/
END:VEVENT
BEGIN:VEVENT
DTSTART;TZID=America/Chicago:20251022T160000
DTEND;TZID=America/Chicago:20251022T190000
DTSTAMP:20260419T151944
CREATED:20250923T194441Z
LAST-MODIFIED:20250930T175635Z
UID:10001313-1761148800-1761159600@www.triarestaurant.com
SUMMARY:Open House
DESCRIPTION:Explore Tria’s private and group dining spaces at our Open House — perfect for any celebration or gathering. \n\n\n\n\nRSVP
URL:https://www.triarestaurant.com/event-calendar/open-house/
END:VEVENT
BEGIN:VEVENT
DTSTART;TZID=America/Chicago:20251020T170000
DTEND;TZID=America/Chicago:20251026T210000
DTSTAMP:20260419T151944
CREATED:20250912T153944Z
LAST-MODIFIED:20251020T105623Z
UID:10001312-1760979600-1761512400@www.triarestaurant.com
SUMMARY:Fall Restaurant Week
DESCRIPTION:Enjoy Mpls.St.Paul Magazine’s Fall Restaurant Week! Available daily\, October 20-26\, 5pm – close.  \n\n\n\n\nMenu\n\n\n\nReservations
URL:https://www.triarestaurant.com/event-calendar/fall-restaurant-week/
END:VEVENT
BEGIN:VEVENT
DTSTART;TZID=America/Chicago:20250922T170000
DTEND;TZID=America/Chicago:20251005T210000
DTSTAMP:20260419T151944
CREATED:20250908T155439Z
LAST-MODIFIED:20250930T175350Z
UID:10001311-1758560400-1759698000@www.triarestaurant.com
SUMMARY:Fall Flavors Prix Fixe Menu
DESCRIPTION:Taste the season at Tria with our Fall Flavors Prix Fixe Menu – a cozy\, curated dining experience inspired by autumn’s best ingredients. \n\n\n\nAvailable daily from 5pm – close.  \n\n\n\n\nMenu\n\n\n\nReservations
URL:https://www.triarestaurant.com/event-calendar/fall-flavors-prix-fixe-menu/2025-09-22/
END:VEVENT
BEGIN:VEVENT
DTSTART;TZID=America/Chicago:20250908T080000
DTEND;TZID=America/Chicago:20250908T170000
DTSTAMP:20260419T151944
CREATED:20250908T155439Z
LAST-MODIFIED:20250930T175350Z
UID:10001310-1757318400-1757350800@www.triarestaurant.com
SUMMARY:Fall Flavors Prix Fixe Menu
DESCRIPTION:Taste the season at Tria with our Fall Flavors Prix Fixe Menu – a cozy\, curated dining experience inspired by autumn’s best ingredients. \n\n\n\nAvailable daily from 5pm – close.  \n\n\n\n\nMenu\n\n\n\nReservations
URL:https://www.triarestaurant.com/event-calendar/fall-flavors-prix-fixe-menu/2025-09-08/
END:VEVENT
BEGIN:VEVENT
DTSTART;TZID=America/Chicago:20250901T160000
DTEND;TZID=America/Chicago:20250901T210000
DTSTAMP:20260419T151944
CREATED:20250821T193406Z
LAST-MODIFIED:20250821T193540Z
UID:10001309-1756742400-1756760400@www.triarestaurant.com
SUMMARY:State Fair Inspired Prix Fixe Menu
DESCRIPTION: Fair food\, Tria style. Three fair-inspired\, chef-crafted courses\, 10 days only. \n\n\n\n\nMenu\n\n\n\nReservations
URL:https://www.triarestaurant.com/event-calendar/state-fair-inspired-prix-fixe-menu/2025-09-01/
ATTACH;FMTTYPE=image/jpeg:https://www.triarestaurant.com/wp-content/uploads/sites/10/2025/08/Tria-State-Fair-social_email_080825.jpg
END:VEVENT
BEGIN:VEVENT
DTSTART;TZID=America/Chicago:20250831T160000
DTEND;TZID=America/Chicago:20250831T210000
DTSTAMP:20260419T151944
CREATED:20250821T193406Z
LAST-MODIFIED:20250821T193540Z
UID:10001308-1756656000-1756674000@www.triarestaurant.com
SUMMARY:State Fair Inspired Prix Fixe Menu
DESCRIPTION: Fair food\, Tria style. Three fair-inspired\, chef-crafted courses\, 10 days only. \n\n\n\n\nMenu\n\n\n\nReservations
URL:https://www.triarestaurant.com/event-calendar/state-fair-inspired-prix-fixe-menu/2025-08-31/
ATTACH;FMTTYPE=image/jpeg:https://www.triarestaurant.com/wp-content/uploads/sites/10/2025/08/Tria-State-Fair-social_email_080825.jpg
END:VEVENT
BEGIN:VEVENT
DTSTART;TZID=America/Chicago:20250830T160000
DTEND;TZID=America/Chicago:20250830T210000
DTSTAMP:20260419T151944
CREATED:20250821T193406Z
LAST-MODIFIED:20250821T193540Z
UID:10001307-1756569600-1756587600@www.triarestaurant.com
SUMMARY:State Fair Inspired Prix Fixe Menu
DESCRIPTION: Fair food\, Tria style. Three fair-inspired\, chef-crafted courses\, 10 days only. \n\n\n\n\nMenu\n\n\n\nReservations
URL:https://www.triarestaurant.com/event-calendar/state-fair-inspired-prix-fixe-menu/2025-08-30/
ATTACH;FMTTYPE=image/jpeg:https://www.triarestaurant.com/wp-content/uploads/sites/10/2025/08/Tria-State-Fair-social_email_080825.jpg
END:VEVENT
BEGIN:VEVENT
DTSTART;TZID=America/Chicago:20250829T160000
DTEND;TZID=America/Chicago:20250829T210000
DTSTAMP:20260419T151944
CREATED:20250821T193406Z
LAST-MODIFIED:20250821T193540Z
UID:10001306-1756483200-1756501200@www.triarestaurant.com
SUMMARY:State Fair Inspired Prix Fixe Menu
DESCRIPTION: Fair food\, Tria style. Three fair-inspired\, chef-crafted courses\, 10 days only. \n\n\n\n\nMenu\n\n\n\nReservations
URL:https://www.triarestaurant.com/event-calendar/state-fair-inspired-prix-fixe-menu/2025-08-29/
ATTACH;FMTTYPE=image/jpeg:https://www.triarestaurant.com/wp-content/uploads/sites/10/2025/08/Tria-State-Fair-social_email_080825.jpg
END:VEVENT
BEGIN:VEVENT
DTSTART;TZID=America/Chicago:20250828T160000
DTEND;TZID=America/Chicago:20250828T210000
DTSTAMP:20260419T151944
CREATED:20250821T193406Z
LAST-MODIFIED:20250821T193540Z
UID:10001305-1756396800-1756414800@www.triarestaurant.com
SUMMARY:State Fair Inspired Prix Fixe Menu
DESCRIPTION: Fair food\, Tria style. Three fair-inspired\, chef-crafted courses\, 10 days only. \n\n\n\n\nMenu\n\n\n\nReservations
URL:https://www.triarestaurant.com/event-calendar/state-fair-inspired-prix-fixe-menu/2025-08-28/
ATTACH;FMTTYPE=image/jpeg:https://www.triarestaurant.com/wp-content/uploads/sites/10/2025/08/Tria-State-Fair-social_email_080825.jpg
END:VEVENT
BEGIN:VEVENT
DTSTART;TZID=America/Chicago:20250827T160000
DTEND;TZID=America/Chicago:20250827T210000
DTSTAMP:20260419T151944
CREATED:20250821T193406Z
LAST-MODIFIED:20250821T193540Z
UID:10001304-1756310400-1756328400@www.triarestaurant.com
SUMMARY:State Fair Inspired Prix Fixe Menu
DESCRIPTION: Fair food\, Tria style. Three fair-inspired\, chef-crafted courses\, 10 days only. \n\n\n\n\nMenu\n\n\n\nReservations
URL:https://www.triarestaurant.com/event-calendar/state-fair-inspired-prix-fixe-menu/2025-08-27/
ATTACH;FMTTYPE=image/jpeg:https://www.triarestaurant.com/wp-content/uploads/sites/10/2025/08/Tria-State-Fair-social_email_080825.jpg
END:VEVENT
BEGIN:VEVENT
DTSTART;TZID=America/Chicago:20250826T160000
DTEND;TZID=America/Chicago:20250826T210000
DTSTAMP:20260419T151944
CREATED:20250821T193406Z
LAST-MODIFIED:20250821T193540Z
UID:10001303-1756224000-1756242000@www.triarestaurant.com
SUMMARY:State Fair Inspired Prix Fixe Menu
DESCRIPTION: Fair food\, Tria style. Three fair-inspired\, chef-crafted courses\, 10 days only. \n\n\n\n\nMenu\n\n\n\nReservations
URL:https://www.triarestaurant.com/event-calendar/state-fair-inspired-prix-fixe-menu/2025-08-26/
ATTACH;FMTTYPE=image/jpeg:https://www.triarestaurant.com/wp-content/uploads/sites/10/2025/08/Tria-State-Fair-social_email_080825.jpg
END:VEVENT
BEGIN:VEVENT
DTSTART;TZID=America/Chicago:20250825T160000
DTEND;TZID=America/Chicago:20250825T210000
DTSTAMP:20260419T151944
CREATED:20250821T193406Z
LAST-MODIFIED:20250821T193540Z
UID:10001302-1756137600-1756155600@www.triarestaurant.com
SUMMARY:State Fair Inspired Prix Fixe Menu
DESCRIPTION: Fair food\, Tria style. Three fair-inspired\, chef-crafted courses\, 10 days only. \n\n\n\n\nMenu\n\n\n\nReservations
URL:https://www.triarestaurant.com/event-calendar/state-fair-inspired-prix-fixe-menu/2025-08-25/
ATTACH;FMTTYPE=image/jpeg:https://www.triarestaurant.com/wp-content/uploads/sites/10/2025/08/Tria-State-Fair-social_email_080825.jpg
END:VEVENT
BEGIN:VEVENT
DTSTART;TZID=America/Chicago:20250824T160000
DTEND;TZID=America/Chicago:20250824T210000
DTSTAMP:20260419T151944
CREATED:20250821T193406Z
LAST-MODIFIED:20250821T193540Z
UID:10001301-1756051200-1756069200@www.triarestaurant.com
SUMMARY:State Fair Inspired Prix Fixe Menu
DESCRIPTION: Fair food\, Tria style. Three fair-inspired\, chef-crafted courses\, 10 days only. \n\n\n\n\nMenu\n\n\n\nReservations
URL:https://www.triarestaurant.com/event-calendar/state-fair-inspired-prix-fixe-menu/2025-08-24/
ATTACH;FMTTYPE=image/jpeg:https://www.triarestaurant.com/wp-content/uploads/sites/10/2025/08/Tria-State-Fair-social_email_080825.jpg
END:VEVENT
BEGIN:VEVENT
DTSTART;TZID=America/Chicago:20250823T160000
DTEND;TZID=America/Chicago:20250823T210000
DTSTAMP:20260419T151944
CREATED:20250821T193406Z
LAST-MODIFIED:20250821T193540Z
UID:10001300-1755964800-1755982800@www.triarestaurant.com
SUMMARY:State Fair Inspired Prix Fixe Menu
DESCRIPTION: Fair food\, Tria style. Three fair-inspired\, chef-crafted courses\, 10 days only. \n\n\n\n\nMenu\n\n\n\nReservations
URL:https://www.triarestaurant.com/event-calendar/state-fair-inspired-prix-fixe-menu/2025-08-23/
ATTACH;FMTTYPE=image/jpeg:https://www.triarestaurant.com/wp-content/uploads/sites/10/2025/08/Tria-State-Fair-social_email_080825.jpg
END:VEVENT
BEGIN:VEVENT
DTSTART;TZID=America/Chicago:20250822T160000
DTEND;TZID=America/Chicago:20250822T210000
DTSTAMP:20260419T151944
CREATED:20250821T193406Z
LAST-MODIFIED:20250821T193540Z
UID:10001299-1755878400-1755896400@www.triarestaurant.com
SUMMARY:State Fair Inspired Prix Fixe Menu
DESCRIPTION: Fair food\, Tria style. Three fair-inspired\, chef-crafted courses\, 10 days only. \n\n\n\n\nMenu\n\n\n\nReservations
URL:https://www.triarestaurant.com/event-calendar/state-fair-inspired-prix-fixe-menu/2025-08-22/
ATTACH;FMTTYPE=image/jpeg:https://www.triarestaurant.com/wp-content/uploads/sites/10/2025/08/Tria-State-Fair-social_email_080825.jpg
END:VEVENT
BEGIN:VEVENT
DTSTART;TZID=America/Chicago:20250821T160000
DTEND;TZID=America/Chicago:20250821T210000
DTSTAMP:20260419T151944
CREATED:20250821T193406Z
LAST-MODIFIED:20250821T193540Z
UID:10001298-1755792000-1755810000@www.triarestaurant.com
SUMMARY:State Fair Inspired Prix Fixe Menu
DESCRIPTION: Fair food\, Tria style. Three fair-inspired\, chef-crafted courses\, 10 days only. \n\n\n\n\nMenu\n\n\n\nReservations
URL:https://www.triarestaurant.com/event-calendar/state-fair-inspired-prix-fixe-menu/2025-08-21/
ATTACH;FMTTYPE=image/jpeg:https://www.triarestaurant.com/wp-content/uploads/sites/10/2025/08/Tria-State-Fair-social_email_080825.jpg
END:VEVENT
BEGIN:VEVENT
DTSTART;TZID=America/Chicago:20250720T160000
DTEND;TZID=America/Chicago:20250720T210000
DTSTAMP:20260419T151944
CREATED:20250623T154807Z
LAST-MODIFIED:20250708T183424Z
UID:10001281-1753027200-1753045200@www.triarestaurant.com
SUMMARY:Summer Restaurant Week
DESCRIPTION:Savor the flavors of summer at Tria! Join us for Summer Restaurant Week\, July 14–20\, and enjoy a special menu crafted just for the season. \n\n\n\n\nMenu\n\n\n\nReservations
URL:https://www.triarestaurant.com/event-calendar/summer-restaurant-week/2025-07-20/
END:VEVENT
BEGIN:VEVENT
DTSTART;TZID=America/Chicago:20250719T160000
DTEND;TZID=America/Chicago:20250719T210000
DTSTAMP:20260419T151944
CREATED:20250623T154807Z
LAST-MODIFIED:20250708T183424Z
UID:10001280-1752940800-1752958800@www.triarestaurant.com
SUMMARY:Summer Restaurant Week
DESCRIPTION:Savor the flavors of summer at Tria! Join us for Summer Restaurant Week\, July 14–20\, and enjoy a special menu crafted just for the season. \n\n\n\n\nMenu\n\n\n\nReservations
URL:https://www.triarestaurant.com/event-calendar/summer-restaurant-week/2025-07-19/
END:VEVENT
BEGIN:VEVENT
DTSTART;TZID=America/Chicago:20250718T160000
DTEND;TZID=America/Chicago:20250718T210000
DTSTAMP:20260419T151944
CREATED:20250623T154807Z
LAST-MODIFIED:20250708T183424Z
UID:10001279-1752854400-1752872400@www.triarestaurant.com
SUMMARY:Summer Restaurant Week
DESCRIPTION:Savor the flavors of summer at Tria! Join us for Summer Restaurant Week\, July 14–20\, and enjoy a special menu crafted just for the season. \n\n\n\n\nMenu\n\n\n\nReservations
URL:https://www.triarestaurant.com/event-calendar/summer-restaurant-week/2025-07-18/
END:VEVENT
BEGIN:VEVENT
DTSTART;TZID=America/Chicago:20250717T160000
DTEND;TZID=America/Chicago:20250717T210000
DTSTAMP:20260419T151944
CREATED:20250623T154807Z
LAST-MODIFIED:20250708T183424Z
UID:10001278-1752768000-1752786000@www.triarestaurant.com
SUMMARY:Summer Restaurant Week
DESCRIPTION:Savor the flavors of summer at Tria! Join us for Summer Restaurant Week\, July 14–20\, and enjoy a special menu crafted just for the season. \n\n\n\n\nMenu\n\n\n\nReservations
URL:https://www.triarestaurant.com/event-calendar/summer-restaurant-week/2025-07-17/
END:VEVENT
BEGIN:VEVENT
DTSTART;TZID=America/Chicago:20250716T160000
DTEND;TZID=America/Chicago:20250716T210000
DTSTAMP:20260419T151944
CREATED:20250623T154807Z
LAST-MODIFIED:20250708T183424Z
UID:10001277-1752681600-1752699600@www.triarestaurant.com
SUMMARY:Summer Restaurant Week
DESCRIPTION:Savor the flavors of summer at Tria! Join us for Summer Restaurant Week\, July 14–20\, and enjoy a special menu crafted just for the season. \n\n\n\n\nMenu\n\n\n\nReservations
URL:https://www.triarestaurant.com/event-calendar/summer-restaurant-week/2025-07-16/
END:VEVENT
BEGIN:VEVENT
DTSTART;TZID=America/Chicago:20250715T160000
DTEND;TZID=America/Chicago:20250715T210000
DTSTAMP:20260419T151944
CREATED:20250623T154807Z
LAST-MODIFIED:20250708T183424Z
UID:10001276-1752595200-1752613200@www.triarestaurant.com
SUMMARY:Summer Restaurant Week
DESCRIPTION:Savor the flavors of summer at Tria! Join us for Summer Restaurant Week\, July 14–20\, and enjoy a special menu crafted just for the season. \n\n\n\n\nMenu\n\n\n\nReservations
URL:https://www.triarestaurant.com/event-calendar/summer-restaurant-week/2025-07-15/
END:VEVENT
BEGIN:VEVENT
DTSTART;TZID=America/Chicago:20250714T160000
DTEND;TZID=America/Chicago:20250714T210000
DTSTAMP:20260419T151944
CREATED:20250623T154807Z
LAST-MODIFIED:20250708T183424Z
UID:10001275-1752508800-1752526800@www.triarestaurant.com
SUMMARY:Summer Restaurant Week
DESCRIPTION:Savor the flavors of summer at Tria! Join us for Summer Restaurant Week\, July 14–20\, and enjoy a special menu crafted just for the season. \n\n\n\n\nMenu\n\n\n\nReservations
URL:https://www.triarestaurant.com/event-calendar/summer-restaurant-week/2025-07-14/
END:VEVENT
BEGIN:VEVENT
DTSTART;TZID=America/Chicago:20250713T160000
DTEND;TZID=America/Chicago:20250713T210000
DTSTAMP:20260419T151944
CREATED:20250623T154232Z
LAST-MODIFIED:20250708T183348Z
UID:10001274-1752422400-1752440400@www.triarestaurant.com
SUMMARY:Bastille Days
DESCRIPTION:Celebrate Bastille Days with an optional French-inspired prix fixe menu\, crafted just for the occasion. \n\n\n\n\nMenu\n\n\n\nReservations
URL:https://www.triarestaurant.com/event-calendar/bastille-days/2025-07-13/
END:VEVENT
BEGIN:VEVENT
DTSTART;TZID=America/Chicago:20250712T160000
DTEND;TZID=America/Chicago:20250712T210000
DTSTAMP:20260419T151944
CREATED:20250623T154232Z
LAST-MODIFIED:20250708T183348Z
UID:10001273-1752336000-1752354000@www.triarestaurant.com
SUMMARY:Bastille Days
DESCRIPTION:Celebrate Bastille Days with an optional French-inspired prix fixe menu\, crafted just for the occasion. \n\n\n\n\nMenu\n\n\n\nReservations
URL:https://www.triarestaurant.com/event-calendar/bastille-days/2025-07-12/
END:VEVENT
BEGIN:VEVENT
DTSTART;TZID=America/Chicago:20250711T160000
DTEND;TZID=America/Chicago:20250711T210000
DTSTAMP:20260419T151944
CREATED:20250623T154232Z
LAST-MODIFIED:20250708T183348Z
UID:10001272-1752249600-1752267600@www.triarestaurant.com
SUMMARY:Bastille Days
DESCRIPTION:Celebrate Bastille Days with an optional French-inspired prix fixe menu\, crafted just for the occasion. \n\n\n\n\nMenu\n\n\n\nReservations
URL:https://www.triarestaurant.com/event-calendar/bastille-days/2025-07-11/
END:VEVENT
BEGIN:VEVENT
DTSTART;TZID=America/Chicago:20250710T160000
DTEND;TZID=America/Chicago:20250710T210000
DTSTAMP:20260419T151944
CREATED:20250623T154232Z
LAST-MODIFIED:20250708T183348Z
UID:10001271-1752163200-1752181200@www.triarestaurant.com
SUMMARY:Bastille Days
DESCRIPTION:Celebrate Bastille Days with an optional French-inspired prix fixe menu\, crafted just for the occasion. \n\n\n\n\nMenu\n\n\n\nReservations
URL:https://www.triarestaurant.com/event-calendar/bastille-days/2025-07-10/
END:VEVENT
BEGIN:VEVENT
DTSTART;TZID=America/Chicago:20250709T160000
DTEND;TZID=America/Chicago:20250709T210000
DTSTAMP:20260419T151944
CREATED:20250623T154232Z
LAST-MODIFIED:20250708T183348Z
UID:10001284-1752076800-1752094800@www.triarestaurant.com
SUMMARY:Bastille Days
DESCRIPTION:Celebrate Bastille Days with an optional French-inspired prix fixe menu\, crafted just for the occasion. \n\n\n\n\nMenu\n\n\n\nReservations
URL:https://www.triarestaurant.com/event-calendar/bastille-days/2025-07-09/
END:VEVENT
END:VCALENDAR